BEGIN:VCALENDAR
PRODID:-//ActOn//iCal4j 1.1//EN
VERSION:2.0
CALSCALE:GREGORIAN
BEGIN:VEVENT
DTSTAMP:20260421T182929Z
DTSTART:20220316T160000Z
DTEND:20220316T180000Z
SUMMARY:MTI - Connected Devices Webinar Series : 
DESCRIPTION:MTI - Connected Devices Webinar Series : \nThe Digital Future is Now: Learning from Diabetes\n\n
UID:AO_EVENT_3356_005a__1642710091205
END:VEVENT
END:VCALENDAR
