BEGIN:VCALENDAR
PRODID:-//ActOn//iCal4j 1.1//EN
VERSION:2.0
CALSCALE:GREGORIAN
BEGIN:VEVENT
DTSTAMP:20260421T183838Z
DTSTART:20211027T170000Z
DTEND:20211027T180000Z
SUMMARY:MTI - Watch out for Wearables: Medical Devices Regulatory Requirements & Concerns
DESCRIPTION:MTI - Watch out for Wearables: Medical Devices Regulatory Requirements & Concerns\n\n
UID:AO_EVENT_3356_0054__1632861687523
END:VEVENT
END:VCALENDAR
